BEGIN:VCALENDAR
VERSION:2.0
PRODID:-//MARTINA POTT - ECPv6.15.20//NONSGML v1.0//EN
CALSCALE:GREGORIAN
METHOD:PUBLISH
X-WR-CALNAME:MARTINA POTT
X-ORIGINAL-URL:https://martinapott.com
X-WR-CALDESC:Veranstaltungen für MARTINA POTT
REFRESH-INTERVAL;VALUE=DURATION:PT1H
X-Robots-Tag:noindex
X-PUBLISHED-TTL:PT1H
BEGIN:VTIMEZONE
TZID:Europe/Paris
BEGIN:DAYLIGHT
TZOFFSETFROM:+0100
TZOFFSETTO:+0200
TZNAME:CEST
DTSTART:20230326T010000
END:DAYLIGHT
BEGIN:STANDARD
TZOFFSETFROM:+0200
TZOFFSETTO:+0100
TZNAME:CET
DTSTART:20231029T010000
END:STANDARD
BEGIN:DAYLIGHT
TZOFFSETFROM:+0100
TZOFFSETTO:+0200
TZNAME:CEST
DTSTART:20240331T010000
END:DAYLIGHT
BEGIN:STANDARD
TZOFFSETFROM:+0200
TZOFFSETTO:+0100
TZNAME:CET
DTSTART:20241027T010000
END:STANDARD
BEGIN:DAYLIGHT
TZOFFSETFROM:+0100
TZOFFSETTO:+0200
TZNAME:CEST
DTSTART:20250330T010000
END:DAYLIGHT
BEGIN:STANDARD
TZOFFSETFROM:+0200
TZOFFSETTO:+0100
TZNAME:CET
DTSTART:20251026T010000
END:STANDARD
END:VTIMEZONE
BEGIN:VEVENT
DTSTART;VALUE=DATE:20240130
DTEND;VALUE=DATE:20250101
DTSTAMP:20260421T075539
CREATED:20230819T123736Z
LAST-MODIFIED:20240418T110821Z
UID:440-1706572800-1735689599@martinapott.com
SUMMARY:Alternative Kreativwerkstatt für Frauen
DESCRIPTION:PAINT THE CRAP OUT OF YOURSELF!\nAlternative Kreativwerkstatt für Frauen*\, die keinen Bock auf Meditationsapps\, Traumreisen und Self Improvement Ratgeber haben\nHier treffen sich Frauen*\, um bei Rockmusik ungezwungen kreativ zu sein und für zwei Stunden ihren Alltag hinter sich zu lassen. \nIn meinem Atelier am Hawerkamp biete ich dir einen Freiraum\, in dem du dich gestalterisch austoben und ganz du selbst sein kannst. Alles kann\, nichts muss: du entscheidest\, was geht. Aber wenn du willst\, stehe ich dir gerne mit Rat und Tat zur Seite. \nAcrylfarben\, Pinsel\, Stifte und diverse Papiermalgründe stehen für dich schon bereit. Du kannst aber auch eigene Leinwände oder Kreativ-Materialien mitbringen. Bring auch gerne angefangene Arbeiten mit\, wenn du Beratung oder Hilfe bei der Umsetzung brauchst. \nAlle Termine und weiterführende Informationen\, sowie die Möglichkeit dich anzumelden findest du auf kreativwerkstatt.martinapott.com.
URL:https://martinapott.com/event/alternative-kreativwerkstatt-fuer-frauen
LOCATION:Atelier\, Am Hawerkamp 31g\, Münster\, Nordrhein-Westfalen\, 48155\, Deutschland
CATEGORIES:Kurs
ATTACH;FMTTYPE=image/jpeg:https://martinapott.com/wp-content/uploads/2022/02/flyer_ptcooys_02_banner_web.jpg
ORGANIZER;CN="Martina Pott":MAILTO:kreativwerkstatt@martinapott.com
END:VEVENT
END:VCALENDAR